BEGIN:VCALENDAR
VERSION:2.0
PRODID:-//Odoo//Event//EN
CALSCALE:GREGORIAN
METHOD:PUBLISH
BEGIN:VEVENT
UID:11682@ewomennetwork.com
DTSTAMP:20260425T170920Z
DTSTART:20260506T183000Z
DTEND:20260506T203000Z
SUMMARY:How Joyful Sales Secrets Begin with Impact & Your Intent
DESCRIPTION:Event Name: How Joyful Sales Secrets Begin with Impact & Your Intent
LOCATION:Los Robles Greens 
END:VEVENT
END:VCALENDAR
