BEGIN:VCALENDAR
VERSION:2.0
PRODID:-//Odoo//Event//EN
CALSCALE:GREGORIAN
METHOD:PUBLISH
BEGIN:VEVENT
UID:12021@ewomennetwork.com
DTSTAMP:20260420T055715Z
DTSTART:20260806T173000Z
DTEND:20260806T193000Z
SUMMARY:Relationship ROI: The Power Move That Transforms Your Love Life... And Your Business
DESCRIPTION:Event Name: Relationship ROI: The Power Move That Transforms Your Love Life... And Your Business
LOCATION:Hilton Garden Inn Fort Collins
END:VEVENT
END:VCALENDAR
